BEGIN:VCALENDAR
VERSION:2.0
PRODID:-//ChamberMaster//Event Calendar 2.0//EN
METHOD:PUBLISH
X-PUBLISHED-TTL:P3D
REFRESH-INTERVAL:P3D
CALSCALE:GREGORIAN
BEGIN:VEVENT
DTSTART:20250216T000000Z
DTEND:20250216T050000Z
X-MICROSOFT-CDO-ALLDAYEVENT:FALSE
SUMMARY:25th Silver Anniversary Gala & Awards Banquet
DESCRIPTION:You're Cordially Invited!\n\n\n\nJoin Us for the Dayton Chamber of Commerce's Silver Anniversary Gala & Awards Banquet Celebrating 25 Years of Business Excellence!\n\n\n\nWe are thrilled to invite you to our Silver Anniversary Gala\, a momentous occasion where we will celebrate 25 years of dedication\, growth\, and collaboration within our vibrant business community. This milestone event is not just a celebration of our past achievements\, but also an opportunity to envision the future together. This gala represents not only a celebration of our shared achievements but also a chance to strengthen connections\, network with peers\, and foster new collaborations. Your presence is invaluable as we honor our past and look ahead to the future. Let's come together to celebrate the resilience and innovation that defines our chamber. We can't wait to share this special evening with you!
X-ALT-DESC;FMTTYPE=text/html:You&rsquo\;re Cordially Invited!<br />\n<br />\nJoin Us for the Dayton Chamber of Commerce&#39\;s Silver Anniversary Gala &amp\; Awards Banquet Celebrating 25 Years of Business Excellence!<br />\n<br />\nWe are thrilled to invite you to our Silver Anniversary Gala\, a momentous occasion where we will celebrate 25 years of dedication\, growth\, and collaboration within our vibrant business community. This milestone event is not just a celebration of our past achievements\, but also an opportunity to envision the future together.&nbsp\;This gala represents not only a celebration of our shared achievements but also a chance to strengthen connections\, network with peers\, and foster new collaborations. Your presence is invaluable as we honor our past and look ahead to the future.&nbsp\;Let&rsquo\;s come together to celebrate the resilience and innovation that defines our chamber. We can&rsquo\;t wait to share this special evening with you!
LOCATION:Dayton Community Center 801 S. Cleveland Street Dayton\, TX 77535
UID:e.1178.8097
SEQUENCE:3
DTSTAMP:20260426T044207Z
URL:https://business.daytontxchamber.com/events/details/25th-silver-anniversary-gala-awards-banquet-8097
END:VEVENT

END:VCALENDAR
